BEGIN:VCALENDAR
VERSION:2.0
PRODID:-//National Bicycle Greenway - ECPv6.15.20//NONSGML v1.0//EN
CALSCALE:GREGORIAN
METHOD:PUBLISH
X-ORIGINAL-URL:https://www.bikeroute.com/NationalBicycleGreenwayNews
X-WR-CALDESC:Events for National Bicycle Greenway
REFRESH-INTERVAL;VALUE=DURATION:PT1H
X-Robots-Tag:noindex
X-PUBLISHED-TTL:PT1H
BEGIN:VTIMEZONE
TZID:America/Los_Angeles
BEGIN:DAYLIGHT
TZOFFSETFROM:-0800
TZOFFSETTO:-0700
TZNAME:PDT
DTSTART:20140309T100000
END:DAYLIGHT
BEGIN:STANDARD
TZOFFSETFROM:-0700
TZOFFSETTO:-0800
TZNAME:PST
DTSTART:20141102T090000
END:STANDARD
BEGIN:DAYLIGHT
TZOFFSETFROM:-0800
TZOFFSETTO:-0700
TZNAME:PDT
DTSTART:20150308T100000
END:DAYLIGHT
BEGIN:STANDARD
TZOFFSETFROM:-0700
TZOFFSETTO:-0800
TZNAME:PST
DTSTART:20151101T090000
END:STANDARD
BEGIN:DAYLIGHT
TZOFFSETFROM:-0800
TZOFFSETTO:-0700
TZNAME:PDT
DTSTART:20160313T100000
END:DAYLIGHT
BEGIN:STANDARD
TZOFFSETFROM:-0700
TZOFFSETTO:-0800
TZNAME:PST
DTSTART:20161106T090000
END:STANDARD
END:VTIMEZONE
BEGIN:VEVENT
DTSTART;TZID=America/Los_Angeles:20150926T120000
DTEND;TZID=America/Los_Angeles:20150928T120000
DTSTAMP:20260423T211518
CREATED:20150227T173403Z
LAST-MODIFIED:20150610T222812Z
UID:9215-1443268800-1443441600@www.bikeroute.com
SUMMARY:Bicycle Tour & Travel Expo - Cincinnati Sharonville Convention Center
DESCRIPTION:Set for Sept 26-27\, in Cincinnati at the Sharonville Convention Center\, is  the Bicycle Tour & Travel Expo. Martin Krieg will be speaking there per the following description: \nMain Street USA\, How Businesses that Serve Cyclists will build the National Bicycle Greenway: \nMartin Krieg will explain his plan and what will be the result once all the businesses that serve the needs of cyclists\, along the coast-to-coast bike route his group spent 17 years researching\, are identified and then sold. He will show how by wanting to bring the discretionary well-dollared travelers of the future\, long and short haul cyclists\, to their doorsteps\, growing numbers of American merchants will be the ones that lead the push for a bicycle heaven on earth\, the National Bicycle Greenway. \nShare this:\n				Email a link to a friend (Opens in new window)\n				Email\n			\n				Print (Opens in new window)\n				Print\n			More\n				Share on LinkedIn (Opens in new window)\n				LinkedIn\n			\n				Share on Tumblr (Opens in new window)\n				Tumblr\n			\n				Share on Facebook (Opens in new window)\n				Facebook\n			\n				Share on X (Opens in new window)\n				X
URL:https://www.bikeroute.com/NationalBicycleGreenwayNews/event/cincinnati-sharonville-convention-center/
LOCATION:Sharonville Convention Center\, 11355 Chester Road\, Cincinnati\, United States
END:VEVENT
BEGIN:VEVENT
DTSTART;TZID=America/Los_Angeles:20150524T090000
DTEND;TZID=America/Los_Angeles:20150524T170000
DTSTAMP:20260423T211518
CREATED:20141201T180445Z
LAST-MODIFIED:20150405T193325Z
UID:8783-1432458000-1432486800@www.bikeroute.com
SUMMARY:9th Folsom to Sacramento on American River Pkwy (slight downhill)
DESCRIPTION:A ride we’ve been doing since 2003\, our 2015 trek will be led by Sacramento Bike Coordinator\, Ed Cox. We’ll leave from a send-off at Larkspur Landing Folsom  (see below for  the discounted room nights they are making available to riders) catered by Whole Foods Folsom at 9AM. Our  ride on America’s top  greenway system\, the American River Parkway (audio/visual of the ARP) will next travel for 13 miles before we stop at Whole Foods Sacramento for a recharge with ample amounts of energy food and drink in their handsome outdoor seating area. They will make sure we are fed even when our ride just about reaches it end in Old Town Sacramento\, ten miles away. Toward that end\, we will enjoy the picnic lunch they will send us (the first 30 of us who commit to this amazing ride) off with at peaceful Discovery Park where the American River meets the Sacramento River. \n\nJoin us HERE \n  \n                           Embassy Suites on the River                                     \nMartin Krieg’s 2009 SF to SLC \nHiWheel ride on the American River Pkwy \n                    Folsom & Sacramento stores          Larkspur Landing Folsom                                                  \n \n  \n Some of the amazing Folsom story as told by \nCity Recreation Mngr\, Lynn Lepage \n  \nROUTE \n  \n Special Promotion for River Riders:\nSave $20-30/night  on a room(s) at the beautiful\nLarkspur Landing Hotel where our ride starts.\nAt the above link\, go to the date for our ride and\nyou will see the promotion code and room night(s)\nthat have been set aside! \n  \nMayors’ Ride Overview Since 2002\n2003 Santa Cruz NBG Fest | 2002 Santa Cruz NBG Fest | Cycle America 2000 | 2000 Lighthouse Send Off \nWhy we do Mayors’ Rides | NBG Podcasts \nShare this:\n				Email a link to a friend (Opens in new window)\n				Email\n			\n				Print (Opens in new window)\n				Print\n			More\n				Share on LinkedIn (Opens in new window)\n				LinkedIn\n			\n				Share on Tumblr (Opens in new window)\n				Tumblr\n			\n				Share on Facebook (Opens in new window)\n				Facebook\n			\n				Share on X (Opens in new window)\n				X
URL:https://www.bikeroute.com/NationalBicycleGreenwayNews/event/sacramento-to-folsom-on-american-river-pkwy/
LOCATION:Sacramento State Capital\, 10th Street and Capitol Mall\, Sacramento\, CA\, United States
END:VEVENT
BEGIN:VEVENT
DTSTART;TZID=America/Los_Angeles:20150523T100000
DTEND;TZID=America/Los_Angeles:20150523T140000
DTSTAMP:20260423T211518
CREATED:20141201T175749Z
LAST-MODIFIED:20150223T181559Z
UID:8781-1432375200-1432389600@www.bikeroute.com
SUMMARY:7th Oakland to Berkeley  (NBG roads to I-80 bike overpass)
DESCRIPTION:2004 and 2011  Berkeley receptions with Councillor Kriss Worthington \n\n \nBerkeley Mayor Tom Bates\nFather of Traffic Calming\n(interview w/NBG ) \nROUTE\neasy\, fast (almost door-to-door) return on BART \nJoin us HERE \nMayors’ Ride Overview Since 2002\n 2003 Santa Cruz NBG Fest | 2002 Santa Cruz NBG Fest | Cycle America 2000 | 2000 Lighthouse Send Off\n Why we do Mayors’ Rides | NBG Podcast \nShare this:\n				Email a link to a friend (Opens in new window)\n				Email\n			\n				Print (Opens in new window)\n				Print\n			More\n				Share on LinkedIn (Opens in new window)\n				LinkedIn\n			\n				Share on Tumblr (Opens in new window)\n				Tumblr\n			\n				Share on Facebook (Opens in new window)\n				Facebook\n			\n				Share on X (Opens in new window)\n				X
URL:https://www.bikeroute.com/NationalBicycleGreenwayNews/event/napa-to-davis/
LOCATION:Oakland City Hall\, 1 Frank H Ogawa Plz Fl 6\, Oakland\, CA\, United States
END:VEVENT
BEGIN:VEVENT
DTSTART;TZID=America/Los_Angeles:20150523T090000
DTEND;TZID=America/Los_Angeles:20150523T094500
DTSTAMP:20260423T211518
CREATED:20150131T142450Z
LAST-MODIFIED:20150604T234308Z
UID:8933-1432371600-1432374300@www.bikeroute.com
SUMMARY:First Annual Ron Bishop Lake Merritt Memorial Ride
DESCRIPTION:L-R: Tom Ayres\, Dionysos Maskaleris\, Martin Krieg\, Outgoing Oakland Mayor\, Jean Quan\, Mary Ann Blackwell\,\nValerie Winemiller\, John Erickson\, Chris Erickson. Behind camera\, Floyd Quan  \n\nRon Bishop\, at Lake Merrit with Bay Bridge\, Treasure and Angel Islands in background.\nTechnically a tidal lagoon\, Lake Merritt defines the downtown landscape of Oakland\,\ncovering 150 acres in the city center\, ringed with parkland\, paths\, and residential neighborhoods. \nWe  will ride the 3-mile Lake Merritt loop on our first annual celebration of Mr. Bike Oakland\, Ron Bishop‘s life. Ron used the bandstand at the upper end of the lake\, near the historic Grand Lake Theater\, to stage many of the rides he and Mary Ann Blackwell did with the Bay Area Easy Riders Bike Touring group they had formed. A lap of the lake that always followed was made possible by the 12th Street dam bikeway Ron had been instrumental in bringing about. \nRon used his professional skills\, public speaking talent and political connections to point his beloved city in the direction of it being the safe bike haven it is more and more becoming today. Ron knew the treasure awaiting cyclists in its hills and along its waterfront needed to be made both bikeable and accessible. It was this that he and NBG Director\, Martin Krieg saw in their mind’s eyes as they biked this emerald jewel in the center of the City of Oakland. \nIn the big picture\, the two of them also used Lake Merritt’s enchanted pathways to think out loud about Oakland’s important part in the coast-to-coast bike road\, the National Bicycle Greenway\, at BikeRoute.com. \n \n\nThis bridge at the end of the lake closest to the Bay was largely the brainchild of Ron Bishop who  championed it tirelessly. It allows walkers and cyclists to go around Lake Merritt without engaging with vehicles. \n  \n                               \n  \n \nThis award winning photo\, called Portals Onto the Lake\,  was shot by Ken Katz\, a cyclist friend of Ron’s and unofficial photographer for the Bay Area Easy Riders Touring Group. \n  \n  \n  \n  \n                                                                \nAbove pictures  from Ken’s Striking Lake Merritt photo album \nJoin the Ride \nShare this:\n				Email a link to a friend (Opens in new window)\n				Email\n			\n				Print (Opens in new window)\n				Print\n			More\n				Share on LinkedIn (Opens in new window)\n				LinkedIn\n			\n				Share on Tumblr (Opens in new window)\n				Tumblr\n			\n				Share on Facebook (Opens in new window)\n				Facebook\n			\n				Share on X (Opens in new window)\n				X
URL:https://www.bikeroute.com/NationalBicycleGreenwayNews/event/ron-bishop-lake-merritt-triple-loop/
LOCATION:Oakland City Hall\, 1 Frank H Ogawa Plz Fl 6\, Oakland\, CA\, United States
END:VEVENT
BEGIN:VEVENT
DTSTART;TZID=America/Los_Angeles:20150510T083000
DTEND;TZID=America/Los_Angeles:20150510T083000
DTSTAMP:20260423T211518
CREATED:20141125T192801Z
LAST-MODIFIED:20150416T071207Z
UID:8762-1431246600-1431246600@www.bikeroute.com
SUMMARY:8th San Francisco to Palo Alto
DESCRIPTION: Our 2015 ride will leave from the Golden Gate city\, instead of cycle to it – see HERE for an explanation. And below for why we feel Palo Alto is the true cornerstone for the National Bicycle Greenway. \nWith the San Francisco hills behind us in the morning\, the ride will be a lot easier than in years past. Ten miles before the end\, Whole Foods Redwood City will recharge us  with energy  food and drink before we end at Palo Alto Bicycles where a small reception is TBA. \nWe’ll take the 8:31 train from the CalTrain station at University and Alma and start riding from San Francisco an hour later. Try to be at the station at 8AM. You cannot be late!! You can also meet us at the 4th & King SF Caltrain at 9:38 and ride with us from there! \n                    Don Loomis – 2004 TransAm Vet             Carol Brouilllet – Cookie Lady                       Waiting at South SF Light          SF CalTrain station                                    Yoriko & Lee with the Dalai Lama in Japan       \n2103 Ride Report | 2014 Ride Report  \n                                                            Folsom & Sacramento stores                       On America’s first Bike Blvd       \nROUTE \nBike Route\, mostly flat once you leave SF\, that runs fairly close to the railroad alignment that dates back to the time of Abraham Lincoln’s presidency. It lets you see the little towns of South San Francisco\, San Bruno\, Milbrae\, Burlingame\, San Mateo\, Belmont\, San Carlos\, Redwood City and Menlo Park on lightly trafficked roads we have been using since 2003 to make this connection. \nJoin US \nREAD Why Palo Alto to Serve as Cornerstone for National Bicycle Greenway\n  \nMayors’ Ride Overview Since 2002\n2003 Santa Cruz NBG Fest | 2002 Santa Cruz NBG Fest | Cycle America 2000 | 2000 Lighthouse Send Off \nWhy we do Mayors’ Rides | NBG Podcasts \nShare this:\n				Email a link to a friend (Opens in new window)\n				Email\n			\n				Print (Opens in new window)\n				Print\n			More\n				Share on LinkedIn (Opens in new window)\n				LinkedIn\n			\n				Share on Tumblr (Opens in new window)\n				Tumblr\n			\n				Share on Facebook (Opens in new window)\n				Facebook\n			\n				Share on X (Opens in new window)\n				X
URL:https://www.bikeroute.com/NationalBicycleGreenwayNews/event/palo-alto-to-san-francisco/
LOCATION:Cal Train\, University & Alma\, Palo Alto\,:\, United States
CATEGORIES:2015 CA Mayors' Ride
END:VEVENT
BEGIN:VEVENT
DTSTART;TZID=America/Los_Angeles:20150509T100000
DTEND;TZID=America/Los_Angeles:20150509T150000
DTSTAMP:20260423T211518
CREATED:20141125T195639Z
LAST-MODIFIED:20150416T064325Z
UID:8767-1431165600-1431183600@www.bikeroute.com
SUMMARY:5th San Jose to Palo Alto
DESCRIPTION:Bike from San Jose City Hall to Palo Alto City Hall \nBicycle leader and former Palo Alto Mayor\, Yoriko Kishimoto (pictured in orange above)\, will be leading us\, with  SJSU Professor\, and former stunt man\, Randy Mitchell! Keep an eye out for the Ordinary Luge trick (above) that he has promised for us on his 19th Century bike! \n If that’s not enough\, San Jose Transportation Director\,  Hans Larsen\, is trying to clear his schedule for that day and Yoriko’s brilliant husband\, Lee Collins\, pictured in blue above\, an Asian language wizard who played a huge part in establishing Apple computer’s dominance in the Pacific Rim and recently met with the Dalai Lama in Japan\, will be there too! 2006 NBG coast-to-coast scout\, Scott Campbell will be there as will Barry Burr\, inventor of the revolutionary Barry Beams bike lighting system.  2004 NBG coast-to-coast scout\, Don Loomis\, another Apple powerhouse\, is also trying to make room for this slow ride that Martin Krieg will be setting the pace for on his rare 10-13 mph Eagle HiWheel bike! \n            \nKrieg at San Jose Bike Party\nwith Eagle that he is bringing back from Ireland where is currently riding it \n  \nThis ride will showcase the recently paved Guadulupe River Trail that runs from very near San Jose City Hall all the way to the bottom of the San Francisco Bay! \n                                                      \nAdd to all of the above the fact  that Yoriko is inviting her other bicycle friends\, city and local bike organization leaders\, and this easy ride will not be one you want to miss!! \n  \n \nTo Join Us\nYou can just ride the 6.5 mile Guadulupe River Trail if you want and return on it on your own if you want. \nROUTE \nRead Why Palo Alto to Serve as Cornerstone for National Bicycle Greenway\n  \n  \n  \n  \nMayors’ Ride Overview Since 2002\n2003 Santa Cruz NBG Fest | 2002 Santa Cruz NBG Fest | Cycle America 2000 | 2000 Lighthouse Send Off \nWhy we do Mayors’ Rides | NBG Podcasts \nShare this:\n				Email a link to a friend (Opens in new window)\n				Email\n			\n				Print (Opens in new window)\n				Print\n			More\n				Share on LinkedIn (Opens in new window)\n				LinkedIn\n			\n				Share on Tumblr (Opens in new window)\n				Tumblr\n			\n				Share on Facebook (Opens in new window)\n				Facebook\n			\n				Share on X (Opens in new window)\n				X
URL:https://www.bikeroute.com/NationalBicycleGreenwayNews/event/san-jose-to-palo-alto/
LOCATION:San Jose City Hall\, 200 E. Santa Clara St.\, San Jose\, CA\, United States
CATEGORIES:2015 CA Mayors' Ride
END:VEVENT
END:VCALENDAR